BEGIN:VCALENDAR
VERSION:2.0
PRODID:-//wp-events-plugin.com//7.2.3.1//EN
TZID:Europe/Berlin
X-WR-TIMEZONE:Europe/Berlin
BEGIN:VEVENT
UID:5014@frauenportal.koeln
DTSTART;TZID=Europe/Berlin:20240414T140000
DTEND;TZID=Europe/Berlin:20240414T160000
DTSTAMP:20240331T071804Z
URL:https://frauenportal.koeln/veranstaltungen/zollstock-entdecken/
SUMMARY:Zollstock entdecken
DESCRIPTION:… und die verborgene Frauengeschichte.\n\nAuf dem Spaziergang
  wird Spuren ehemaliger ukrainischer Zwangsarbeiterinnen begegnet\, kontr
 ären Erinnerungen an das Leben im Hochbunker und einer Frau aus dem NS-Wi
 derstand. Es geht um die Entwicklung der „weiblichen“ Wohlfahrtspflege
  zur Sozialarbeit und um eine Bauhaussiedlung\, in der 1930 ein „Berufsf
 rauenhaus“ realisiert wurde. Wir hören von einer Lokalpolitikerin und e
 iner katholischen Persönlichkeit der Frauenbewegung.\n\nVeranstalterin:\n
 Kölner Frauengeschichtsverein e.V.\n\nKontakt:\nTel.: 0221 / 24 82 65\, E
 -Mail: info@frauengeschichtsverein.de\n\nKosten / Anmeldung:\nKostenbeitr
 ag: 12 Euro\, Anmeldung und Vorverkauf erforderlich unter:\ntickets.qultor
 .de/event/zollstock-die-verborgene-geschichte-der-frauen-entdecken/zollsto
 ck-die-verborgene-geschichte-der-frauen-entdecken-2024-04-14-1400\n\nTreff
 punkt: vor dem Kölner Frauengeschichtsverein e.V.
LOCATION:Kölner Frauengeschichtsverein\, Höninger Weg 100a\, 50969 Köln
GEO:50.916357;6.941413
X-APPLE-STRUCTURED-LOCATION;VALUE=URI;X-ADDRESS=Höninger Weg 100a\, Köln\
 , 50969\, Frauenorganisation\, Deutschland;X-APPLE-RADIUS=100;X-TITLE=Köl
 ner Frauengeschichtsverein:geo:50.916357,6.941413
END:VEVENT
BEGIN:VTIMEZONE
TZID:Europe/Berlin
X-LIC-LOCATION:Europe/Berlin
BEGIN:DAYLIGHT
DTSTART:20240331T030000
TZOFFSETFROM:+0100
TZOFFSETTO:+0200
TZNAME:CEST
END:DAYLIGHT
END:VTIMEZONE
END:VCALENDAR