BEGIN:VCALENDAR
VERSION:2.0
PRODID:-//wp-events-plugin.com//7.2.3.1//EN
TZID:Europe/Berlin
X-WR-TIMEZONE:Europe/Berlin
BEGIN:VEVENT
UID:5380@frauenportal.koeln
DTSTART;TZID=Europe/Berlin:20241217T180000
DTEND;TZID=Europe/Berlin:20241217T200000
DTSTAMP:20241130T141557Z
URL:https://frauenportal.koeln/veranstaltungen/zum-100-geburtstag-von-esth
 er-bejarano/
SUMMARY:Zum 100. Geburtstag von Esther Bejarano
DESCRIPTION:– Erinnerungen und Podiumsdiskussion –\n\nAm 15. Dezember w
 äre die Auschwitz-Überlebende Esther Bejarano (geborene Loewy) 100 Jahre
  alt geworden. Sie überlebte als Mitglied des Mädchenorchester von Ausch
 witz und weil ein SS-Funktionär sie auf eine christliche Krankenstation v
 erlegen ließ. In Ravensbrück wurde sie als Zwangsarbeiterin eingesetzt.\
 n\nBis zu ihrem Tod 2021 setzte sie sich engagiert für die Erinnerung an 
 die Shoa und die kritische Auseinandersetzung mit der NS-Geschichte ein. 1
 986 gründete Esther Bejarano das Auschwitz-Komitee für die Bundesrepubli
 k Deutschland\, das sich zunächst in ihrer Wohnung traf.  Seit 2008 war s
 ie Ehrenvorsitzende der VVN-BdA. Vor allem durch ihre gemeinsamen Auftritt
 e mit der Rapgruppe Microphone Mafia erreichte sie damit auch jüngere Gen
 erationen. Im Gespräch und mit musikalischen Beiträgen erinnern ihr Sohn
  Noram Bejarano\, Claudia Wörmann-Adam und Kutlu Yurtseven (Microphone Ma
 fia) an das Wirken von Esther Bejarano.\n\nVeranstalterin:\nKölner Frauen
 geschichtsverein e.V. in Kooperation mit dem NS-Dokumentationszentrum und 
 dem Verein EL-DE Haus e.V.\, www.nsdok.de\n\nKontakt:\nTel.: 0221 / 24 82 
 65\, E-Mail: info@frauengeschichtsverein.de\n\nKosten / Anmeldung:\nEintri
 tt: 4\,50 €
LOCATION:NS-Dokumentationszentrum der Stadt Köln – EL-DE-Haus\, Appellho
 fplatz 23 \, 50667 Köln
GEO:50.94067;6.95015
X-APPLE-STRUCTURED-LOCATION;VALUE=URI;X-ADDRESS=Appellhofplatz 23 \, Köln\
 , 50667\, Veranstaltungsort\, Deutschland;X-APPLE-RADIUS=100;X-TITLE=NS-Do
 kumentationszentrum der Stadt Köln – EL-DE-Haus:geo:50.94067,6.95015
END:VEVENT
BEGIN:VTIMEZONE
TZID:Europe/Berlin
X-LIC-LOCATION:Europe/Berlin
BEGIN:STANDARD
DTSTART:20241027T020000
TZOFFSETFROM:+0200
TZOFFSETTO:+0100
TZNAME:CET
END:STANDARD
END:VTIMEZONE
END:VCALENDAR