BEGIN:VCALENDAR
VERSION:2.0
PRODID:-//wp-events-plugin.com//7.2.3.1//EN
TZID:Europe/Berlin
X-WR-TIMEZONE:Europe/Berlin
BEGIN:VEVENT
UID:3338@frauenportal.koeln
DTSTART;TZID=Europe/Berlin:20210924T100000
DTEND;TZID=Europe/Berlin:20210924T120000
DTSTAMP:20220331T071826Z
URL:https://frauenportal.koeln/veranstaltungen/zurueck-in-den-beruf-19/
SUMMARY:Zurück in den Beruf
DESCRIPTION:Die Informationsveranstaltung richtet sich insbesondere an Beru
 fsrückkehrende und Wiedereinsteigende\, die nach einer familiären Auszei
 t durch Erziehung von Kindern oder Pflege von Angehörigen wieder in den A
 rbeitsmarkt einsteigen möchten. \n\nFolgende Inhalte erwarten die Teilneh
 menden:\n- aktueller Arbeitsmarkt in Köln\n- Kompetenzen erkennen\, einse
 tzen und ausbauen\n- Tipps zur Vereinbarkeit von Familie & Beruf\n- Bewerb
 ungstipps \n- (Online-)Angebote der AA \n- Vorstellung der Beratungsangebo
 te der BBiE durch das Team 381\n\nVeranstalterin:\nBeauftragte für Chance
 ngleichheit am Arbeitsmarkt der Agentur für Arbeit Köln\nin Kooperation 
 mit der VHS Köln\, www.vhs-koeln.de\n\nAnsprechpartnerin:\nAgnes Metz\, T
 el.: 0221/ 9429-5400\, E-Mail: Koeln.BCA@arbeitsagentur.de\n\nKosten / Anm
 eldung:\nEingeladen sind alle interessierten Frauen – und auch Männer 
 –\, die nach einer Familienpause wieder in den Beruf zurückkehren möch
 ten. Anmeldung erforderlich.\n\nVeranstaltungsort:\nonline
END:VEVENT
BEGIN:VTIMEZONE
TZID:Europe/Berlin
X-LIC-LOCATION:Europe/Berlin
BEGIN:DAYLIGHT
DTSTART:20210328T030000
TZOFFSETFROM:+0100
TZOFFSETTO:+0200
TZNAME:CEST
END:DAYLIGHT
END:VTIMEZONE
END:VCALENDAR