BEGIN:VCALENDAR
VERSION:2.0
PRODID:-//wp-events-plugin.com//7.2.3.1//EN
TZID:Europe/Berlin
X-WR-TIMEZONE:Europe/Berlin
BEGIN:VEVENT
UID:956@frauenportal.koeln
DTSTART;TZID=Europe/Berlin:20181112T093000
DTEND;TZID=Europe/Berlin:20181112T120000
DTSTAMP:20180104T111804Z
URL:https://frauenportal.koeln/veranstaltungen/zurueck-in-den-beruf-2/
SUMMARY:Zurück in den Beruf
DESCRIPTION:Informationsveranstaltung für BerufsrückkehrerInnen\n\nDie K
 ölner Beauftragte für Chancengleichheit am Arbeitsmarkt\, Agnes Metz\, i
 nformiert über\n\n 	gesetzliche Grundlagen und Regelungen\,\n 	Angebote v
 on Beratung und Vermittlung\,\n 	eventuell mögliche finanzielle Hilfen\,\
 n 	Wissenswertes zu den Selbstinformationseinrichtungen der Agentur für A
 rbeit.\n\nAußerdem werden Hinweise auf weitere interessante Angebote in K
 öln gegeben.\n\nVeranstalterin:\nBeauftragte für Chancengleichheit am Ar
 beitsmarkt der Agentur für Arbeit Köln\n\nAnsprechpartnerin:\nAgnes Metz
 \, Tel.: 0221/ 9429-5400\, E-Mail: Koeln.BCA@arbeitsagentur.de\n\nKosten /
  Anmeldung:\nEingeladen sind alle interessierten Frauen – und auch Männ
 er –\, die nach einer Familienpause wieder in den Beruf zurückkehren m
 öchten. Eine Anmeldung ist nicht notwendig\, es fällt kein Kostenbeitrag
  an.\n\nVeranstaltungsort:\nBerufsinformationszentrum (BIZ) der Agentur f
 ür Arbeit Köln\, Raum 3\, Butzweilerhofallee 1\, 50829 Köln\, [map id=9
 30]
END:VEVENT
BEGIN:VTIMEZONE
TZID:Europe/Berlin
X-LIC-LOCATION:Europe/Berlin
BEGIN:STANDARD
DTSTART:20181028T020000
TZOFFSETFROM:+0200
TZOFFSETTO:+0100
TZNAME:CET
END:STANDARD
END:VTIMEZONE
END:VCALENDAR