BEGIN:VCALENDAR
VERSION:2.0
PRODID:-//wp-events-plugin.com//7.2.3.1//EN
TZID:Europe/Berlin
X-WR-TIMEZONE:Europe/Berlin
BEGIN:VEVENT
UID:4178@frauenportal.koeln
DTSTART;TZID=Europe/Berlin:20230505T093000
DTEND;TZID=Europe/Berlin:20230505T120000
DTSTAMP:20221230T104005Z
URL:https://frauenportal.koeln/veranstaltungen/zurueck-in-den-beruf-23/
SUMMARY:Zurück in den Beruf
DESCRIPTION:Sie haben Ihre berufliche Tätigkeit aufgrund der Betreuung von
  Kindern oder pflegebedürftiger Angehöriger für einen Zeitraum unterbro
 chen und möchten wieder in die Berufstätigkeit zurückkehren? \n\nAn die
 sem Vormittag erhalten Sie allgemeine Informationen zum regionalen Arbeits
 markt\, Tipps zur Vereinbarkeit von Familie und Beruf\, Recherchemöglichk
 eiten für die eigene Stellensuche und einen Überblick über Fördermögl
 ichkeiten für eine berufliche Weiterbildung. \n\nHier ist der Flyer für 
 den Wiedereinstieg\, 1. Halbjahr 2023: 23.1_Flyer_Erfolgreich_Wiedereinste
 igen (pdf-Datei\, 1\,6 MB)\n\nVeranstalterin:\nBeauftragte für Chancengle
 ichheit am Arbeitsmarkt der Agentur für Arbeit Köln\n\nAnsprechpartnerin
 :\nAgnes Metz\, Tel.: 0221/ 9429-5400\, E-Mail: Koeln.BCA@arbeitsagentur.d
 e\n\nKosten / Anmeldung:\nKostenfrei\, Anmeldung erforderlich.
LOCATION:Berufsinformationszentrum (BIZ) - Agentur für Arbeit Köln\, Butz
 weilerhofallee 1\, 50829 Köln
GEO:50.984654;6.888779
X-APPLE-STRUCTURED-LOCATION;VALUE=URI;X-ADDRESS=Butzweilerhofallee 1\, Köl
 n\, 50829\, Veranstaltungsort\, Deutschland;X-APPLE-RADIUS=100;X-TITLE=Ber
 ufsinformationszentrum (BIZ) - Agentur für Arbeit Köln:geo:50.984654,6.8
 88779
END:VEVENT
BEGIN:VTIMEZONE
TZID:Europe/Berlin
X-LIC-LOCATION:Europe/Berlin
BEGIN:DAYLIGHT
DTSTART:20230326T030000
TZOFFSETFROM:+0100
TZOFFSETTO:+0200
TZNAME:CEST
END:DAYLIGHT
END:VTIMEZONE
END:VCALENDAR